BEGIN:VCALENDAR
VERSION:2.0
PRODID:-//SV Fides - ECPv6.15.11//NONSGML v1.0//EN
CALSCALE:GREGORIAN
METHOD:PUBLISH
X-WR-CALNAME:SV Fides
X-ORIGINAL-URL:https://svfides.nl
X-WR-CALDESC:Evenementen voor SV Fides
REFRESH-INTERVAL;VALUE=DURATION:PT1H
X-Robots-Tag:noindex
X-PUBLISHED-TTL:PT1H
BEGIN:VTIMEZONE
TZID:Europe/Helsinki
BEGIN:DAYLIGHT
TZOFFSETFROM:+0200
TZOFFSETTO:+0300
TZNAME:EEST
DTSTART:20230326T010000
END:DAYLIGHT
BEGIN:STANDARD
TZOFFSETFROM:+0300
TZOFFSETTO:+0200
TZNAME:EET
DTSTART:20231029T010000
END:STANDARD
BEGIN:DAYLIGHT
TZOFFSETFROM:+0200
TZOFFSETTO:+0300
TZNAME:EEST
DTSTART:20240331T010000
END:DAYLIGHT
BEGIN:STANDARD
TZOFFSETFROM:+0300
TZOFFSETTO:+0200
TZNAME:EET
DTSTART:20241027T010000
END:STANDARD
BEGIN:DAYLIGHT
TZOFFSETFROM:+0200
TZOFFSETTO:+0300
TZNAME:EEST
DTSTART:20250330T010000
END:DAYLIGHT
BEGIN:STANDARD
TZOFFSETFROM:+0300
TZOFFSETTO:+0200
TZNAME:EET
DTSTART:20251026T010000
END:STANDARD
END:VTIMEZONE
BEGIN:VEVENT
DTSTART;TZID=Europe/Helsinki:20240923T173000
DTEND;TZID=Europe/Helsinki:20240923T190000
DTSTAMP:20260420T104802
CREATED:20240917T103931Z
LAST-MODIFIED:20240921T202637Z
UID:8577-1727112600-1727118000@svfides.nl
SUMMARY:Eerstejaarsbowlen
DESCRIPTION:Lieve eerstejaars én intro-mentoren ❤️💙\, \nJe bent goed in bowlen of je bent goed in… Om elkaar nog beter te leren kennen\, staat aankomende maandag het traditiegetrouw eerstejaarsbowlen op de planning! \nNeem maandag 23 september jouw klasgenoten én intro-ouders mee naar Olround en strijd daar voor de titel bowle-koning(in)🎳. Om 17:20 zullen we bij de HAN verzamelen om samen richting Olround te lopen (5 minuutjes lopen).😄 \nBen jij de persoon die constant een strike gooit\, of geniet jij liever vanaf de bank van de gezelligheid? Meld je dan snel aan via de onderstaande link!🤩 \nhttps://docs.google.com/forms/d/e/1FAIpQLSeda6SqpysIYXSrjep1VDXTKMhB4NHzOzIOitm-Z8yoMnupIQ/viewform \nVoor leden kost deze activiteit €3\,98 en voor niet-leden €8\,40. \nMeld je snel aan\, want VOL=VOL.
URL:https://svfides.nl/activiteit/test/
LOCATION:Olround (Heyendaalseweg 90)\, Heyendaalseweg 90\, Nijmegen
CATEGORIES:Informeel
ATTACH;FMTTYPE=image/jpeg:https://svfides.nl/wp-content/uploads/2024/09/Eerstejaarsactiviteit-bowlen-2309.jpg
END:VEVENT
BEGIN:VEVENT
DTSTART;TZID=Europe/Helsinki:20240919T200000
DTEND;TZID=Europe/Helsinki:20240919T235900
DTSTAMP:20260420T104802
CREATED:20240917T105650Z
LAST-MODIFIED:20240917T115416Z
UID:8582-1726776000-1726790340@svfides.nl
SUMMARY:After intro borrel
DESCRIPTION:🎉 AFTER INTRO BORREL 2024 – De comeback die je niet wil missen! 🎉 \nHeb jij genoten van de introductieweek en wil je nog één keer samen met je vrienden en intro-mentoren losgaan? Kom dan naar de after intro-borrel! 🥳 \nDit is hét moment om de start van je studententijd nog een keer te vieren in een gezellige sfeer\, met koude drankjes\, goede muziek en natuurlijk de gezelligste mensen.💃🏼 Uiteraard is dit ook het moment om terug te blikken naar de introductie en de dingen die wij daar gedaan hebben. \nWanneer: donderdag 19 september 📅\nWaar: Tappers 📍\nTijd: 20:00 uur 🕗 \nMis dit geweldige moment niet en herbeleef de introductie met je mede-studenten en intro-mentoren! 🤩 \nBen jij nou niet bij de introductie week geweest? Geen probleem! Ook jij bent van harte welkom. Deze avond zal er gewerkt worden met bandjes\, dus vergeet je ID niet!🪪 Zorg dat jij erbij bent 🍻💃🎉
URL:https://svfides.nl/activiteit/after-intro-borrel/
LOCATION:Tappers
CATEGORIES:Informeel
ATTACH;FMTTYPE=image/jpeg:https://svfides.nl/wp-content/uploads/2024/09/AFTER-INTRO-24-25.jpg
END:VEVENT
BEGIN:VEVENT
DTSTART;TZID=Europe/Helsinki:20240912T190000
DTEND;TZID=Europe/Helsinki:20240912T220000
DTSTAMP:20260420T104802
CREATED:20240823T232226Z
LAST-MODIFIED:20240823T232301Z
UID:7919-1726167600-1726178400@svfides.nl
SUMMARY:Jaarlijkse Algemene Vergadering
DESCRIPTION:
URL:https://svfides.nl/activiteit/jaarlijkse-algemene-vergadering/
LOCATION:De Waagh (Grote Markt 26\, Nijmegen)\, Grote Markt 26\, Nijmegen
END:VEVENT
BEGIN:VEVENT
DTSTART;VALUE=DATE:20240826
DTEND;VALUE=DATE:20240830
DTSTAMP:20260420T104802
CREATED:20240819T224524Z
LAST-MODIFIED:20240823T231619Z
UID:7356-1724630400-1724975999@svfides.nl
SUMMARY:Introductieweek HBO-Rechten
DESCRIPTION:
URL:https://svfides.nl/activiteit/introductieweek-arnhem/
LOCATION:Hogeschool Arnhem en Nijmegen\, Arnhem en Nijmegen
CATEGORIES:Informeel
ATTACH;FMTTYPE=image/jpeg:https://svfides.nl/wp-content/uploads/2024/08/7f7d43ed213a48299e830bf352532edb-4.jpg
END:VEVENT
END:VCALENDAR