BEGIN:VCALENDAR
VERSION:2.0
PRODID:-//SV Fides - ECPv6.15.11//NONSGML v1.0//EN
CALSCALE:GREGORIAN
METHOD:PUBLISH
X-WR-CALNAME:SV Fides
X-ORIGINAL-URL:https://svfides.nl
X-WR-CALDESC:Evenementen voor SV Fides
REFRESH-INTERVAL;VALUE=DURATION:PT1H
X-Robots-Tag:noindex
X-PUBLISHED-TTL:PT1H
BEGIN:VTIMEZONE
TZID:Europe/Amsterdam
BEGIN:DAYLIGHT
TZOFFSETFROM:+0100
TZOFFSETTO:+0200
TZNAME:CEST
DTSTART:20240331T010000
END:DAYLIGHT
BEGIN:STANDARD
TZOFFSETFROM:+0200
TZOFFSETTO:+0100
TZNAME:CET
DTSTART:20241027T010000
END:STANDARD
BEGIN:DAYLIGHT
TZOFFSETFROM:+0100
TZOFFSETTO:+0200
TZNAME:CEST
DTSTART:20250330T010000
END:DAYLIGHT
BEGIN:STANDARD
TZOFFSETFROM:+0200
TZOFFSETTO:+0100
TZNAME:CET
DTSTART:20251026T010000
END:STANDARD
BEGIN:DAYLIGHT
TZOFFSETFROM:+0100
TZOFFSETTO:+0200
TZNAME:CEST
DTSTART:20260329T010000
END:DAYLIGHT
BEGIN:STANDARD
TZOFFSETFROM:+0200
TZOFFSETTO:+0100
TZNAME:CET
DTSTART:20261025T010000
END:STANDARD
END:VTIMEZONE
BEGIN:VEVENT
DTSTART;VALUE=DATE:20250621
DTEND;VALUE=DATE:20250622
DTSTAMP:20260420T073814
CREATED:20250611T105837Z
LAST-MODIFIED:20250611T111800Z
UID:12232-1750464000-1750550399@svfides.nl
SUMMARY:Eendaagse reis: Luik\, België
DESCRIPTION:Lieve allemaal\,☀️ \nZin in een dag vol gezelligheid\, ontdekking en bourgondische sfeer?🤭 Stap met ons op de bus en reis mee naar het bruisende hart van Wallonië: Luik!🇧🇪\nOp slechts een paar uurtjes van Nijmegen ligt deze verrassende Belgische stad vol karakter\, cultuur en culinaire verwennerij.😋 \nWe vertrekken in de vroege ochtend vanuit Nijmegen\, koffie in de hand\, zonnebril op en klaar voor de dag.☀️Voor je het weet doemen de heuvels van de Ardennen op en rijden we Luik binnen. Een stad waar oud en nieuw hand in hand gaan. \nDeze stad is een verrijking van activiteiten. Denk hierbij aan de kathedralen\, bezoek het levendige Place Du Marché of beklim de montagne de Bueren die welliswaar 374 treden heeft voor je kan genieten van een prachtig uitzicht. 👀 \n📅 Datum: 21 juni 2025\n💶 Kosten leden: €25\,00\n💶 Kosten niet-leden: €30\,00\n📍 Vertrekpunt: Nijmegen \n👉 Wees er snel bij want vol = vol! Meld je aan via de onderstaande link. \nAanmelden eendaagse reis: Luik
URL:https://svfides.nl/activiteit/eendaagse-reis-luik/
LOCATION:Luik\, België\, Luik\, Liège\, 4000\, Belgium
CATEGORIES:Internationaal
ATTACH;FMTTYPE=image/jpeg:https://svfides.nl/wp-content/uploads/2025/06/Eendaagse-reis-Luik.jpg
END:VEVENT
END:VCALENDAR