BEGIN:VCALENDAR
VERSION:2.0
PRODID:-//SV Fides - ECPv6.15.11//NONSGML v1.0//EN
CALSCALE:GREGORIAN
METHOD:PUBLISH
X-ORIGINAL-URL:https://svfides.nl
X-WR-CALDESC:Evenementen voor SV Fides
REFRESH-INTERVAL;VALUE=DURATION:PT1H
X-Robots-Tag:noindex
X-PUBLISHED-TTL:PT1H
BEGIN:VTIMEZONE
TZID:Europe/Amsterdam
BEGIN:DAYLIGHT
TZOFFSETFROM:+0100
TZOFFSETTO:+0200
TZNAME:CEST
DTSTART:20240331T010000
END:DAYLIGHT
BEGIN:STANDARD
TZOFFSETFROM:+0200
TZOFFSETTO:+0100
TZNAME:CET
DTSTART:20241027T010000
END:STANDARD
BEGIN:DAYLIGHT
TZOFFSETFROM:+0100
TZOFFSETTO:+0200
TZNAME:CEST
DTSTART:20250330T010000
END:DAYLIGHT
BEGIN:STANDARD
TZOFFSETFROM:+0200
TZOFFSETTO:+0100
TZNAME:CET
DTSTART:20251026T010000
END:STANDARD
BEGIN:DAYLIGHT
TZOFFSETFROM:+0100
TZOFFSETTO:+0200
TZNAME:CEST
DTSTART:20260329T010000
END:DAYLIGHT
BEGIN:STANDARD
TZOFFSETFROM:+0200
TZOFFSETTO:+0100
TZNAME:CET
DTSTART:20261025T010000
END:STANDARD
END:VTIMEZONE
BEGIN:VEVENT
DTSTART;TZID=Europe/Amsterdam:20250326T150000
DTEND;TZID=Europe/Amsterdam:20250326T150000
DTSTAMP:20260420T103903
CREATED:20250324T101341Z
LAST-MODIFIED:20250324T101603Z
UID:10603-1743001200-1743001200@svfides.nl
SUMMARY:Bezoek Stichting Achmea rechtsbijstand
DESCRIPTION:💙❤️ BEZOEK AAN ACHMEA RECHTSBIJSTAND❤️💙 \nHeb jij affiniteit in het verbintenissen- en het kooprecht? Ben je maatschappelijk betrokken en geloof je in een rechtvaardige samenleving? Dan is dit wat voor jou! \nOp woensdag 26 maart bezoeken wij Stichting Achmea rechtsbijstand. Achmea zet zich in om rechtshulp toegankelijk te maken en richten zich op het voorkomen van juridisch leed. Genoeg redenen voor meerdere studenten om bij Achmea een stage te lopen of om later aan de slag te gaan als jurist! 👝 \nTijdens dit bezoek krijgen wij de unieke kans om een kijkje achter de schermen te nemen\, we krijgen uitleg over het werken bij Achmea en waar zij zich voor inzetten. Het belooft een leerzame en vooral leuke dag te worden. Kom gezellig mee en meld je aan via de onderstaande link! \nAanmelden Stichting Achmea rechtsbijstand \n📅 Woensdag 26 maart\n🕙 15:00 – 17:00 uur\n📍 Spoorlaan 298\, 5017 JZ Tilburg
URL:https://svfides.nl/activiteit/bezoek-stichting-achmea-rechtsbijstand/
LOCATION:Stichting Achmea rechtsbijstand\, Spoorlaan 298\, Tilburg\, Noord-Braband\, 5017 JZ\, Netherlands
CATEGORIES:Formeel
ATTACH;FMTTYPE=image/jpeg:https://svfides.nl/wp-content/uploads/2025/03/Bezoek-Achmea.jpg
END:VEVENT
END:VCALENDAR