BEGIN:VCALENDAR
VERSION:2.0
PRODID:-//SV Fides - ECPv6.15.11//NONSGML v1.0//EN
CALSCALE:GREGORIAN
METHOD:PUBLISH
X-WR-CALNAME:SV Fides
X-ORIGINAL-URL:https://svfides.nl
X-WR-CALDESC:Evenementen voor SV Fides
REFRESH-INTERVAL;VALUE=DURATION:PT1H
X-Robots-Tag:noindex
X-PUBLISHED-TTL:PT1H
BEGIN:VTIMEZONE
TZID:Europe/Helsinki
BEGIN:DAYLIGHT
TZOFFSETFROM:+0200
TZOFFSETTO:+0300
TZNAME:EEST
DTSTART:20240331T010000
END:DAYLIGHT
BEGIN:STANDARD
TZOFFSETFROM:+0300
TZOFFSETTO:+0200
TZNAME:EET
DTSTART:20241027T010000
END:STANDARD
BEGIN:DAYLIGHT
TZOFFSETFROM:+0200
TZOFFSETTO:+0300
TZNAME:EEST
DTSTART:20250330T010000
END:DAYLIGHT
BEGIN:STANDARD
TZOFFSETFROM:+0300
TZOFFSETTO:+0200
TZNAME:EET
DTSTART:20251026T010000
END:STANDARD
BEGIN:DAYLIGHT
TZOFFSETFROM:+0200
TZOFFSETTO:+0300
TZNAME:EEST
DTSTART:20260329T010000
END:DAYLIGHT
BEGIN:STANDARD
TZOFFSETFROM:+0300
TZOFFSETTO:+0200
TZNAME:EET
DTSTART:20261025T010000
END:STANDARD
END:VTIMEZONE
BEGIN:VEVENT
DTSTART;TZID=Europe/Helsinki:20250310T110000
DTEND;TZID=Europe/Helsinki:20250310T110000
DTSTAMP:20260420T142731
CREATED:20250225T122339Z
LAST-MODIFIED:20250225T122339Z
UID:9905-1741604400-1741604400@svfides.nl
SUMMARY:Bezoek gevangenis Wolvenburg
DESCRIPTION:Lieve allemaal\,❤️💙 \nHeb jij je ooit afgevraagd hoe het leven achter de tralies er vroeger uit zag?👮🏼 Stap met Fides terug in de tijd en ontdek de fascinerende geschiedenis van Wolvenburg\, de oude gevangenis in hartje Utrecht.🏙️ \nTijdens dit bezoek krijgen wij een rondleiding en wordt ons verteld over de gevangenisregime van een strafgevangenis uit 1857\, wat inmiddels een penitentiaire inrichting is geworden! Lijkt je dit interessant? Meld je dan nu aan\, via de onderstaande link! Dit kan tot en met maandag 3 maart.✨ \nAanmelden bezoek gevangenis Wolvenburg \n📆 Maandag 10 maart\n🕘 11:00 uur\n📍Wolvenplein 27\, 3512 CK Utrecht\n💰Leden: gratis\n💰Niet leden: €2\,50
URL:https://svfides.nl/activiteit/bezoek-gevangenis-wolvenburg/
LOCATION:Gevangenis Wolvenburg\, Wolvenplein 27\, Utrecht\, Utrecht\, \, 3512 CK\, Netherlands
CATEGORIES:Formeel
ATTACH;FMTTYPE=image/jpeg:https://svfides.nl/wp-content/uploads/2025/02/Bezoek-gevangenis-Wolvenburg.jpg
END:VEVENT
END:VCALENDAR