BEGIN:VCALENDAR
VERSION:2.0
PRODID:-//SV Fides - ECPv6.15.11//NONSGML v1.0//EN
CALSCALE:GREGORIAN
METHOD:PUBLISH
X-WR-CALNAME:SV Fides
X-ORIGINAL-URL:https://svfides.nl
X-WR-CALDESC:Evenementen voor SV Fides
REFRESH-INTERVAL;VALUE=DURATION:PT1H
X-Robots-Tag:noindex
X-PUBLISHED-TTL:PT1H
BEGIN:VTIMEZONE
TZID:Europe/Helsinki
BEGIN:DAYLIGHT
TZOFFSETFROM:+0200
TZOFFSETTO:+0300
TZNAME:EEST
DTSTART:20240331T010000
END:DAYLIGHT
BEGIN:STANDARD
TZOFFSETFROM:+0300
TZOFFSETTO:+0200
TZNAME:EET
DTSTART:20241027T010000
END:STANDARD
BEGIN:DAYLIGHT
TZOFFSETFROM:+0200
TZOFFSETTO:+0300
TZNAME:EEST
DTSTART:20250330T010000
END:DAYLIGHT
BEGIN:STANDARD
TZOFFSETFROM:+0300
TZOFFSETTO:+0200
TZNAME:EET
DTSTART:20251026T010000
END:STANDARD
BEGIN:DAYLIGHT
TZOFFSETFROM:+0200
TZOFFSETTO:+0300
TZNAME:EEST
DTSTART:20260329T010000
END:DAYLIGHT
BEGIN:STANDARD
TZOFFSETFROM:+0300
TZOFFSETTO:+0200
TZNAME:EET
DTSTART:20261025T010000
END:STANDARD
END:VTIMEZONE
BEGIN:VEVENT
DTSTART;TZID=Europe/Helsinki:20250218T103000
DTEND;TZID=Europe/Helsinki:20250218T103000
DTSTAMP:20260422T104905
CREATED:20250121T163123Z
LAST-MODIFIED:20250121T163123Z
UID:9824-1739874600-1739874600@svfides.nl
SUMMARY:Bezoek Openbaar Ministerie
DESCRIPTION:Lieve allemaal\, ❤️💙 \nLijkt het jou nou leuk om later verantwoordelijk te zijn voor het opsporen en vervolgen van strafbare feiten🔎 of ben je nou eigenlijk benieuwd hoe een zitting nou precies gaat?👩‍⚖️Ga dan met ons op 18 februari gezellig mee om een bezoek te brengen aan het OM. \nTijdens dit bezoek krijgen we uitleg van het OM over hun werk! \nMeld je snel aan via de volgende link! aanmelden bezoek Openbaar Ministerie \n📅 18 februari\n🕙 10:30 tot 11:30\n📍Eusebiusbinnensingel 28\, Arnhem\n💰Gratis
URL:https://svfides.nl/activiteit/bezoek-openbaar-ministerie/
LOCATION:Openbaar Ministerie Arnhem\, Eusebuisbinnensingel 28\, Arnhem\, 6811BX\, Netherlands
CATEGORIES:Formeel
ATTACH;FMTTYPE=image/jpeg:https://svfides.nl/wp-content/uploads/2025/01/Bezoek-Openbaar-Ministerie.jpg
END:VEVENT
END:VCALENDAR