BEGIN:VCALENDAR
VERSION:2.0
PRODID:-//SV Fides - ECPv6.15.11//NONSGML v1.0//EN
CALSCALE:GREGORIAN
METHOD:PUBLISH
X-WR-CALNAME:SV Fides
X-ORIGINAL-URL:https://svfides.nl
X-WR-CALDESC:Evenementen voor SV Fides
REFRESH-INTERVAL;VALUE=DURATION:PT1H
X-Robots-Tag:noindex
X-PUBLISHED-TTL:PT1H
BEGIN:VTIMEZONE
TZID:Europe/Helsinki
BEGIN:DAYLIGHT
TZOFFSETFROM:+0200
TZOFFSETTO:+0300
TZNAME:EEST
DTSTART:20230326T010000
END:DAYLIGHT
BEGIN:STANDARD
TZOFFSETFROM:+0300
TZOFFSETTO:+0200
TZNAME:EET
DTSTART:20231029T010000
END:STANDARD
BEGIN:DAYLIGHT
TZOFFSETFROM:+0200
TZOFFSETTO:+0300
TZNAME:EEST
DTSTART:20240331T010000
END:DAYLIGHT
BEGIN:STANDARD
TZOFFSETFROM:+0300
TZOFFSETTO:+0200
TZNAME:EET
DTSTART:20241027T010000
END:STANDARD
BEGIN:DAYLIGHT
TZOFFSETFROM:+0200
TZOFFSETTO:+0300
TZNAME:EEST
DTSTART:20250330T010000
END:DAYLIGHT
BEGIN:STANDARD
TZOFFSETFROM:+0300
TZOFFSETTO:+0200
TZNAME:EET
DTSTART:20251026T010000
END:STANDARD
END:VTIMEZONE
BEGIN:VEVENT
DTSTART;TZID=Europe/Helsinki:20241204T091500
DTEND;TZID=Europe/Helsinki:20241204T110000
DTSTAMP:20260422T173538
CREATED:20241127T174756Z
LAST-MODIFIED:20241127T200934Z
UID:9242-1733303700-1733310000@svfides.nl
SUMMARY:Bezoek gemeenteraad Nijmegen
DESCRIPTION:Heb jij altijd al willen weten hoe beslissingen worden gemaakt die Nijmegen elke dag vormgeven?🧐 Meld je dan nu aan want Fides brengt een bezoek aan de gemeenteraad van Nijmegen!🏢 \nBij dit bezoek zal er onder andere een korte rondleiding door het stadhuis worden gegeven. Super interessant dus!🤩 \n📍 Korte Nieuwstraat 6\, 6511 PP Nijmegen\n📅 4 December\, 9:15 verzamelen voor het stadhuis\n🚗 Vanaf station Nijmegen is het 15 min lopen\n💰 Gratis \nAanmelden bezoek gemeenteraad Nijmegen
URL:https://svfides.nl/activiteit/bezoek-gemeenteraad-nijmegen/
LOCATION:Stadhuis Nijmegen\, Korte Nieuwstraat 6\, Nijmegen\, 6511 PP
CATEGORIES:Formeel
ATTACH;FMTTYPE=image/jpeg:https://svfides.nl/wp-content/uploads/2024/11/3.jpg
END:VEVENT
END:VCALENDAR