BEGIN:VCALENDAR
VERSION:2.0
PRODID:-//SV Fides - ECPv6.15.11//NONSGML v1.0//EN
CALSCALE:GREGORIAN
METHOD:PUBLISH
X-ORIGINAL-URL:https://svfides.nl
X-WR-CALDESC:Evenementen voor SV Fides
REFRESH-INTERVAL;VALUE=DURATION:PT1H
X-Robots-Tag:noindex
X-PUBLISHED-TTL:PT1H
BEGIN:VTIMEZONE
TZID:Europe/Helsinki
BEGIN:DAYLIGHT
TZOFFSETFROM:+0200
TZOFFSETTO:+0300
TZNAME:EEST
DTSTART:20230326T010000
END:DAYLIGHT
BEGIN:STANDARD
TZOFFSETFROM:+0300
TZOFFSETTO:+0200
TZNAME:EET
DTSTART:20231029T010000
END:STANDARD
BEGIN:DAYLIGHT
TZOFFSETFROM:+0200
TZOFFSETTO:+0300
TZNAME:EEST
DTSTART:20240331T010000
END:DAYLIGHT
BEGIN:STANDARD
TZOFFSETFROM:+0300
TZOFFSETTO:+0200
TZNAME:EET
DTSTART:20241027T010000
END:STANDARD
BEGIN:DAYLIGHT
TZOFFSETFROM:+0200
TZOFFSETTO:+0300
TZNAME:EEST
DTSTART:20250330T010000
END:DAYLIGHT
BEGIN:STANDARD
TZOFFSETFROM:+0300
TZOFFSETTO:+0200
TZNAME:EET
DTSTART:20251026T010000
END:STANDARD
END:VTIMEZONE
BEGIN:VEVENT
DTSTART;TZID=Europe/Helsinki:20241014T101500
DTEND;TZID=Europe/Helsinki:20241014T140000
DTSTAMP:20260422T192525
CREATED:20241010T111405Z
LAST-MODIFIED:20241010T111405Z
UID:8812-1728900900-1728914400@svfides.nl
SUMMARY:Bezoek aan rechtbank Zutphen
DESCRIPTION:Beste Fidestanen❤️💙 \nWij zijn enthousiast om jullie uit te nodigen voor een bezoek aan de rechtbank in Zutphen! ⚖️ Dit is een unieke kans om een kijkje achter de schermen te nemen in het rechtsysteem en te zien hoe de rechtspraak in de praktijk werkt.🧑‍⚖️ \nTijdens dit bezoek zullen we een twee zittingen van de politierechter bijwonen.👮 Daarnaast krijgen we ook een rondleiding! Dit is niet alleen een kans om je kennis te verdiepen\, maar ook om vragen te stellen en inzicht te krijgen in het juridische vakgebied.🧐 \nSchrijf je snel in\, want er zijn maar een beperkt aantal plaatsen beschikbaar! Meld je aan via de onderstaande link!🔗 \nhttps://docs.google.com/forms/d/1rpQfGh-M6sahxBS8yi1ouqx1vGn13v2B5s66e_8LRaI/edit \nWij hopen jullie allemaal te zien voor deze leerzame ervaring!🤩 \nDatum: 14 oktober🗓️\nTijd: 10:15 uur\nLocatie: Rechtbank Zutphen\, Martinetsingel 2.📍(op eigen vervoer!)
URL:https://svfides.nl/activiteit/bezoek-aan-rechtbank-zutphen/
LOCATION:Rechtbank Zutphen (Martinetsingel 2)\, Zutphen\, 7201 DT
CATEGORIES:Formeel
ATTACH;FMTTYPE=image/png:https://svfides.nl/wp-content/uploads/2024/10/Activiteit-formeel-bezoek-rechtbank-14-10-2024-2.png
END:VEVENT
END:VCALENDAR