BEGIN:VCALENDAR
VERSION:2.0
PRODID:-//SV Fides - ECPv6.15.11//NONSGML v1.0//EN
CALSCALE:GREGORIAN
METHOD:PUBLISH
X-WR-CALNAME:SV Fides
X-ORIGINAL-URL:https://svfides.nl
X-WR-CALDESC:Evenementen voor SV Fides
REFRESH-INTERVAL;VALUE=DURATION:PT1H
X-Robots-Tag:noindex
X-PUBLISHED-TTL:PT1H
BEGIN:VTIMEZONE
TZID:Europe/Amsterdam
BEGIN:DAYLIGHT
TZOFFSETFROM:+0100
TZOFFSETTO:+0200
TZNAME:CEST
DTSTART:20250330T010000
END:DAYLIGHT
BEGIN:STANDARD
TZOFFSETFROM:+0200
TZOFFSETTO:+0100
TZNAME:CET
DTSTART:20251026T010000
END:STANDARD
BEGIN:DAYLIGHT
TZOFFSETFROM:+0100
TZOFFSETTO:+0200
TZNAME:CEST
DTSTART:20260329T010000
END:DAYLIGHT
BEGIN:STANDARD
TZOFFSETFROM:+0200
TZOFFSETTO:+0100
TZNAME:CET
DTSTART:20261025T010000
END:STANDARD
BEGIN:DAYLIGHT
TZOFFSETFROM:+0100
TZOFFSETTO:+0200
TZNAME:CEST
DTSTART:20270328T010000
END:DAYLIGHT
BEGIN:STANDARD
TZOFFSETFROM:+0200
TZOFFSETTO:+0100
TZNAME:CET
DTSTART:20271031T010000
END:STANDARD
END:VTIMEZONE
BEGIN:VEVENT
DTSTART;TZID=Europe/Amsterdam:20260227T190000
DTEND;TZID=Europe/Amsterdam:20260227T220000
DTSTAMP:20260421T122242
CREATED:20260207T211311Z
LAST-MODIFIED:20260207T211722Z
UID:14644-1772218800-1772229600@svfides.nl
SUMMARY:Pubquiz studenten VS docenten
DESCRIPTION:💙❤️ PUBQUIZ: STUDENTEN x DOCENTEN ❤️💙 \nWie is de mens achter de docent? En aan wie geef ik eigenlijk les? Docenten zien we allemaal natuurlijk vaak\, maar écht kennen is iets anders. Daarom nodigen wij jullie van harte uit voor een pubquiz waarin studenten en docenten met elkaar (en tegen elkaar) de strijd aangaan! \nVerwacht verassende (juridische) vragen\, gezonde competitie en goede gesprekken. Natuurlijk is er genoeg tijd om de strijdbijl te begraven en gezellig met elkaar te socializen. \nAl en met al een ontzettend gezellige avond die je niet wil missen. \nAanmelden kan via de link in de bio\, hopelijk zien we jullie allemaal! \n📍: Café Faber\n📆: vrijdag 27 februari\n🕘: inloop om 18:45\, start om 19:15\nEigen bijdrage: 6\,50 voor leden\, niet-leden en docenten
URL:https://svfides.nl/activiteit/pubquiz-studenten-vs-docenten/
LOCATION:Café Faber\, Van Broeckhuysenstraat 12-14\, Nijmegen\, Gelderland\, 6511 PH\, Netherlands
END:VEVENT
END:VCALENDAR